BEGIN:VCALENDAR
VERSION:2.0
PRODID:icalendar-ruby
CALSCALE:GREGORIAN
METHOD:PUBLISH
BEGIN:VTIMEZONE
TZID:Europe/Oslo
BEGIN:DAYLIGHT
DTSTART:20260329T030000
TZOFFSETFROM:+0100
TZOFFSETTO:+0200
RRULE:FREQ=YEARLY;BYDAY=-1SU;BYMONTH=3
TZNAME:CEST
END:DAYLIGHT
BEGIN:STANDARD
DTSTART:20261025T020000
TZOFFSETFROM:+0200
TZOFFSETTO:+0100
RRULE:FREQ=YEARLY;BYDAY=-1SU;BYMONTH=10
TZNAME:CET
END:STANDARD
END:VTIMEZONE
BEGIN:VEVENT
DTSTAMP:20260426T032541Z
UID:1114564
DTSTART;TZID=Europe/Oslo:20260508T193000
DTEND;TZID=Europe/Oslo:20260508T213000
LOCATION:Det Akademiske Kvarter\, Storelogen
SEQUENCE:1777157570
SUMMARY:Stemmeskifte - En konsert med Studinekoret Sirenene - kl. 20:00
END:VEVENT
END:VCALENDAR
